BEGIN:VCALENDAR
VERSION:2.0
PRODID:-//Singapore Property Agent Jack Sheo - ECPv6.15.20//NONSGML v1.0//EN
CALSCALE:GREGORIAN
METHOD:PUBLISH
X-ORIGINAL-URL:https://jacksheo.com
X-WR-CALDESC:Events for Singapore Property Agent Jack Sheo
REFRESH-INTERVAL;VALUE=DURATION:PT1H
X-Robots-Tag:noindex
X-PUBLISHED-TTL:PT1H
BEGIN:VTIMEZONE
TZID:Asia/Singapore
BEGIN:STANDARD
TZOFFSETFROM:+0800
TZOFFSETTO:+0800
TZNAME:+08
DTSTART:20250101T000000
END:STANDARD
END:VTIMEZONE
BEGIN:VEVENT
DTSTART;TZID=Asia/Singapore:20260507T193000
DTEND;TZID=Asia/Singapore:20260507T213000
DTSTAMP:20260425T213448
CREATED:20260423T035523Z
LAST-MODIFIED:20260423T041756Z
UID:9082-1778182200-1778189400@jacksheo.com
SUMMARY:Property Market Outlook 2H 2026: Where is the Market Heading?
DESCRIPTION:The property market is entering a new phase. \n\n\n\nPrices have held firm. Interest rates remain a key question. And many are unsure what comes next. \n\n\n\nSome are waiting for clearer signals. Others are already positioning ahead of the next move. \n\n\n\nThe real question is: will you be reacting to the market\, or moving ahead of it? \n\n\n\nWhat If You Could See Where the Market is Heading Next?\n\n\n\nIn a changing cycle\, timing isn’t about guessing; it’s about understanding the direction before it becomes obvious. This seminar will give you a clear outlook on where Singapore’s property market is likely heading in 2H 2026\, so you can make confident\, well-timed decisions. \n\n\n\nIn This Seminar\, You’ll Learn:\n\n\n\n✔ The expected direction of Singapore’s property market in 2H 2026 \n\n\n\n✔ Key trends influencing prices\, demand\, and supply \n\n\n\n✔ How interest rates and economic shifts may impact property decisions \n\n\n\n✔ Where potential opportunities could emerge next \n\n\n\n✔ Strategies to position yourself ahead of market movements \n\n\n\nWhy This Matters Now\n\n\n\nEvery property cycle creates a window of opportunity\, but it doesn’t stay open for long. \n\n\n\nThose who understand the market early: \n\n\n\nEnter with better timingSecure stronger positionsMake decisions with clarityThose who wait for certainty often: \n\n\n\n\nMiss early opportunities\n\n\n\nEnter at less favourable points\n\n\n\n\nHear From Industry Leader\n\n\n\n🎤 Kelvin Fong (CEO\, PropNex) \n\n\n\nGain insights from one of Singapore’s leading real estate voices\, as he shares his perspective on where the market is heading and what it means for you. \n\n\n\nWho Should Attend\n\n\n\n✔ Buyers deciding whether to enter the market now or later✔ Homeowners planning their next property move✔ Investors looking for the next opportunity✔ Anyone seeking clarity on the 2026 property outlook \n\n\n\nSecure Your Seat Now\n\n\n\nThe market will move\, with or without you. \n\n\n\nThe key is knowing when and how to act. \n\n\n\n👉 Register now to reserve your complimentary seat. \n\n\n\nEvent Details\n\n\n\nDate and Time: 7 May 2026 (Thursday) | 7:30 PM \n\n\n\nLocation: Hudson Place Residences\, Along Media Walk
URL:https://jacksheo.com/event/property-market-outlook-2h-2026-where-is-the-market-heading/
LOCATION:Hudson Place Residences\, 18 Media Circle\, Singapore\, 139818\, Singapore
CATEGORIES:Seminar
ATTACH;FMTTYPE=image/webp:https://jacksheo.com/wp-content/uploads/2026/04/2026-05-07-property-outlook-2h-2026.webp
ORGANIZER;CN="PropNex Singapore":MAILTO:jack.sheo@gmail.com
END:VEVENT
BEGIN:VEVENT
DTSTART;TZID=Asia/Singapore:20260516T100000
DTEND;TZID=Asia/Singapore:20260516T170000
DTSTAMP:20260425T213448
CREATED:20260423T042614Z
LAST-MODIFIED:20260423T042616Z
UID:9090-1778925600-1778950800@jacksheo.com
SUMMARY:Property Roadmap To Avoid Irreversible Mistakes
DESCRIPTION:Who decides your property wealth — you or your fear? \n\n\n\nYour colleague is waiting. Your neighbour is waiting. Everyone is waiting. \n\n\n\nWaiting for the Middle East to stabilise. Waiting for oil prices to drop. Waiting for property prices to correct. Waiting for the “right time.” \n\n\n\nSound familiar? We’ve heard this since the Russia-Ukraine conflict too. \n\n\n\nThe pattern repeats. The opportunities don’t. \n\n\n\nDon’t let fear write your property story. Join us this 16 May and learn exactly how the Guru reads the market — and walk away with a proven roadmap to avoid the costly mistakes others will make. \n\n\n\n📅 16 May | 10am – 6pm
URL:https://jacksheo.com/event/property-roadmap-to-avoid-irreversible-mistakes/
LOCATION:Frasers House\, 80 Middle Road\, Singapore\, N.A\, 188966\, Singapore
CATEGORIES:Seminar
ATTACH;FMTTYPE=image/webp:https://jacksheo.com/wp-content/uploads/2026/04/2026-05-16-Property-Roadmap-To-Avoid-Irreversible-Mistakes.webp
ORGANIZER;CN="PropNex Singapore":MAILTO:jack.sheo@gmail.com
END:VEVENT
END:VCALENDAR